BEGIN:VCALENDAR
VERSION:2.0
PRODID:-//Golden Weebs - ECPv6.15.20//NONSGML v1.0//EN
CALSCALE:GREGORIAN
METHOD:PUBLISH
X-WR-CALNAME:Golden Weebs
X-ORIGINAL-URL:https://golden-weebs.pl
X-WR-CALDESC:Wydarzenia dla Golden Weebs
REFRESH-INTERVAL;VALUE=DURATION:PT1H
X-Robots-Tag:noindex
X-PUBLISHED-TTL:PT1H
BEGIN:VTIMEZONE
TZID:Europe/Warsaw
BEGIN:DAYLIGHT
TZOFFSETFROM:+0100
TZOFFSETTO:+0200
TZNAME:CEST
DTSTART:20240331T010000
END:DAYLIGHT
BEGIN:STANDARD
TZOFFSETFROM:+0200
TZOFFSETTO:+0100
TZNAME:CET
DTSTART:20241027T010000
END:STANDARD
BEGIN:DAYLIGHT
TZOFFSETFROM:+0100
TZOFFSETTO:+0200
TZNAME:CEST
DTSTART:20250330T010000
END:DAYLIGHT
BEGIN:STANDARD
TZOFFSETFROM:+0200
TZOFFSETTO:+0100
TZNAME:CET
DTSTART:20251026T010000
END:STANDARD
BEGIN:DAYLIGHT
TZOFFSETFROM:+0100
TZOFFSETTO:+0200
TZNAME:CEST
DTSTART:20260329T010000
END:DAYLIGHT
BEGIN:STANDARD
TZOFFSETFROM:+0200
TZOFFSETTO:+0100
TZNAME:CET
DTSTART:20261025T010000
END:STANDARD
END:VTIMEZONE
BEGIN:VEVENT
DTSTART;TZID=Europe/Warsaw:20251124T150000
DTEND;TZID=Europe/Warsaw:20251124T150000
DTSTAMP:20260420T120325
CREATED:20251103T122019Z
LAST-MODIFIED:20251103T122019Z
UID:4346-1763996400-1763996400@golden-weebs.pl
SUMMARY:FESTIWAL: Zamek po drugiej stronie lustra
DESCRIPTION:https://alekino.com/movie/zamek-po-drugiej-stronie-lustra/
URL:https://golden-weebs.pl/event/festiwal-zamek-po-drugiej-stronie-lustra/
END:VEVENT
BEGIN:VEVENT
DTSTART;TZID=Europe/Warsaw:20251125T143000
DTEND;TZID=Europe/Warsaw:20251125T143000
DTSTAMP:20260420T120325
CREATED:20251103T122726Z
LAST-MODIFIED:20251103T122851Z
UID:4351-1764081000-1764081000@golden-weebs.pl
SUMMARY:FESTIWAL: Wilcze dzieci
DESCRIPTION:https://alekino.com/movie/wilcze-dzieci/
URL:https://golden-weebs.pl/event/festiwal-wilcze-dzieci/
END:VEVENT
BEGIN:VEVENT
DTSTART;TZID=Europe/Warsaw:20251125T183000
DTEND;TZID=Europe/Warsaw:20251125T183000
DTSTAMP:20260420T120325
CREATED:20251118T095729Z
LAST-MODIFIED:20251118T095729Z
UID:4396-1764095400-1764095400@golden-weebs.pl
SUMMARY:AMAZON PRIME VIDEO: Ninja kontra yakuza\, odc. 8
DESCRIPTION:
URL:https://golden-weebs.pl/event/amazon-prime-video-ninja-kontra-yakuza-odc-8/
END:VEVENT
BEGIN:VEVENT
DTSTART;TZID=Europe/Warsaw:20251126T090000
DTEND;TZID=Europe/Warsaw:20251126T090000
DTSTAMP:20260420T120325
CREATED:20251118T095759Z
LAST-MODIFIED:20251118T095759Z
UID:4398-1764147600-1764147600@golden-weebs.pl
SUMMARY:DISNEY+: Disney Twisted-Wonderland: Animacja\, odc. 5
DESCRIPTION:
URL:https://golden-weebs.pl/event/disney-disney-twisted-wonderland-animacja-odc-5/
END:VEVENT
BEGIN:VEVENT
DTSTART;TZID=Europe/Warsaw:20251126T160000
DTEND;TZID=Europe/Warsaw:20251126T160000
DTSTAMP:20260420T120325
CREATED:20251118T095840Z
LAST-MODIFIED:20251118T095840Z
UID:4400-1764172800-1764172800@golden-weebs.pl
SUMMARY:DISNEY+: Wandance\, odc. 8
DESCRIPTION:
URL:https://golden-weebs.pl/event/disney-wandance-odc-8/
END:VEVENT
BEGIN:VEVENT
DTSTART;TZID=Europe/Warsaw:20251127T165700
DTEND;TZID=Europe/Warsaw:20251127T165700
DTSTAMP:20260420T120325
CREATED:20251118T095923Z
LAST-MODIFIED:20251118T095923Z
UID:4402-1764262620-1764262620@golden-weebs.pl
SUMMARY:AMAZON PRIME VIDEO: Gwiazda jaśniejsza od Słońca\, odc. 9
DESCRIPTION:
URL:https://golden-weebs.pl/event/amazon-prime-video-gwiazda-jasniejsza-od-slonca-odc-9/
END:VEVENT
BEGIN:VEVENT
DTSTART;TZID=Europe/Warsaw:20251128T120000
DTEND;TZID=Europe/Warsaw:20251128T120000
DTSTAMP:20260420T120325
CREATED:20251103T122759Z
LAST-MODIFIED:20251103T122910Z
UID:4353-1764331200-1764331200@golden-weebs.pl
SUMMARY:FESTIWAL: Wilcze dzieci
DESCRIPTION:https://alekino.com/movie/wilcze-dzieci/
URL:https://golden-weebs.pl/event/festiwal-wilcze-dzieci-2/
END:VEVENT
BEGIN:VEVENT
DTSTART;TZID=Europe/Warsaw:20251128T163000
DTEND;TZID=Europe/Warsaw:20251128T163000
DTSTAMP:20260420T120325
CREATED:20251116T153108Z
LAST-MODIFIED:20251116T153108Z
UID:4383-1764347400-1764347400@golden-weebs.pl
SUMMARY:NETFLIX: Tougen Anki\, odc. 20
DESCRIPTION:
URL:https://golden-weebs.pl/event/netflix-tougen-anki-odc-20/
END:VEVENT
BEGIN:VEVENT
DTSTART;TZID=Europe/Warsaw:20251128T170000
DTEND;TZID=Europe/Warsaw:20251128T170000
DTSTAMP:20260420T120325
CREATED:20251103T122103Z
LAST-MODIFIED:20251103T122103Z
UID:4348-1764349200-1764349200@golden-weebs.pl
SUMMARY:FESTIWAL: Zamek po drugiej stronie lustra
DESCRIPTION:https://alekino.com/movie/zamek-po-drugiej-stronie-lustra/
URL:https://golden-weebs.pl/event/festiwal-zamek-po-drugiej-stronie-lustra-2/
END:VEVENT
BEGIN:VEVENT
DTSTART;TZID=Europe/Warsaw:20251128T185500
DTEND;TZID=Europe/Warsaw:20251128T185500
DTSTAMP:20260420T120325
CREATED:20251118T100005Z
LAST-MODIFIED:20251118T100005Z
UID:4404-1764356100-1764356100@golden-weebs.pl
SUMMARY:AMAZON PRIME VIDEO: Sanda\, odc. 9
DESCRIPTION:
URL:https://golden-weebs.pl/event/amazon-prime-video-sanda-odc-9/
END:VEVENT
BEGIN:VEVENT
DTSTART;TZID=Europe/Warsaw:20251129T131000
DTEND;TZID=Europe/Warsaw:20251129T131000
DTSTAMP:20260420T120325
CREATED:20251126T160917Z
LAST-MODIFIED:20251126T160917Z
UID:4431-1764421800-1764421800@golden-weebs.pl
SUMMARY:KINO: A Few Moments of Cheers
DESCRIPTION:Kino Astra \nKino Astra
URL:https://golden-weebs.pl/event/kino-a-few-moments-of-cheers/
END:VEVENT
BEGIN:VEVENT
DTSTART;TZID=Europe/Warsaw:20251129T150000
DTEND;TZID=Europe/Warsaw:20251129T150000
DTSTAMP:20260420T120325
CREATED:20251126T161015Z
LAST-MODIFIED:20251126T161015Z
UID:4433-1764428400-1764428400@golden-weebs.pl
SUMMARY:KINO: Break of Dawn
DESCRIPTION:Kino Astra \nKino Astra
URL:https://golden-weebs.pl/event/kino-break-of-dawn/
END:VEVENT
BEGIN:VEVENT
DTSTART;TZID=Europe/Warsaw:20251129T180000
DTEND;TZID=Europe/Warsaw:20251129T180000
DTSTAMP:20260420T120325
CREATED:20251118T100424Z
LAST-MODIFIED:20251118T100424Z
UID:4408-1764439200-1764439200@golden-weebs.pl
SUMMARY:NETFLIX: Ranma1/2 S2\, odc. 9
DESCRIPTION:
URL:https://golden-weebs.pl/event/netflix-ranma1-2-s2-odc-9/
END:VEVENT
BEGIN:VEVENT
DTSTART;TZID=Europe/Warsaw:20251130T131000
DTEND;TZID=Europe/Warsaw:20251130T145000
DTSTAMP:20260420T120325
CREATED:20251118T101315Z
LAST-MODIFIED:20251118T101315Z
UID:4410-1764508200-1764514200@golden-weebs.pl
SUMMARY:CANAL+ SERIALE: Captain Tsubasa\, odc. 25-28
DESCRIPTION:
URL:https://golden-weebs.pl/event/canal-seriale-captain-tsubasa-odc-25-28/
END:VEVENT
BEGIN:VEVENT
DTSTART;TZID=Europe/Warsaw:20251130T133000
DTEND;TZID=Europe/Warsaw:20251130T133000
DTSTAMP:20260420T120325
CREATED:20251103T123004Z
LAST-MODIFIED:20251103T123012Z
UID:4357-1764509400-1764509400@golden-weebs.pl
SUMMARY:FESTIWAL: Spirited Away: W krainie bogów
DESCRIPTION:https://alekino.com/movie/spirited-away-w-krainie-bogow/
URL:https://golden-weebs.pl/event/festiwal-spirited-away-w-krainie-bogow/
END:VEVENT
BEGIN:VEVENT
DTSTART;TZID=Europe/Warsaw:20251202T183000
DTEND;TZID=Europe/Warsaw:20251202T183000
DTSTAMP:20260420T120325
CREATED:20251122T121810Z
LAST-MODIFIED:20251122T122105Z
UID:4412-1764700200-1764700200@golden-weebs.pl
SUMMARY:AMAZON PRIME VIDEO: Ninja kontra yakuza\, odc. 9
DESCRIPTION:
URL:https://golden-weebs.pl/event/amazon-prime-video-ninja-kontra-yakuza-odc-9/
END:VEVENT
BEGIN:VEVENT
DTSTART;TZID=Europe/Warsaw:20251203T090000
DTEND;TZID=Europe/Warsaw:20251203T090000
DTSTAMP:20260420T120325
CREATED:20251122T121845Z
LAST-MODIFIED:20251122T122034Z
UID:4414-1764752400-1764752400@golden-weebs.pl
SUMMARY:DISNEY+: Disney Twisted-Wonderland: Animacja\, odc. 6
DESCRIPTION:
URL:https://golden-weebs.pl/event/disney-disney-twisted-wonderland-animacja-odc-6/
END:VEVENT
BEGIN:VEVENT
DTSTART;TZID=Europe/Warsaw:20251203T160000
DTEND;TZID=Europe/Warsaw:20251203T160000
DTSTAMP:20260420T120325
CREATED:20251122T121911Z
LAST-MODIFIED:20251122T122023Z
UID:4416-1764777600-1764777600@golden-weebs.pl
SUMMARY:DISNEY+: Wandance\, odc. 9
DESCRIPTION:
URL:https://golden-weebs.pl/event/disney-wandance-odc-9/
END:VEVENT
BEGIN:VEVENT
DTSTART;TZID=Europe/Warsaw:20251204T165700
DTEND;TZID=Europe/Warsaw:20251204T165700
DTSTAMP:20260420T120325
CREATED:20251122T122142Z
LAST-MODIFIED:20251122T122142Z
UID:4418-1764867420-1764867420@golden-weebs.pl
SUMMARY:AMAZON PRIME VIDEO: Gwiazda jaśniejsza od Słońca\, odc. 10
DESCRIPTION:
URL:https://golden-weebs.pl/event/amazon-prime-video-gwiazda-jasniejsza-od-slonca-odc-10/
END:VEVENT
BEGIN:VEVENT
DTSTART;VALUE=DATE:20251205
DTEND;VALUE=DATE:20251206
DTSTAMP:20260420T120325
CREATED:20251114T172806Z
LAST-MODIFIED:20251114T172806Z
UID:4371-1764892800-1764979199@golden-weebs.pl
SUMMARY:BLU-RAY: Cyberpunk: Edgerunners
DESCRIPTION:spkl.io/6015AjVgB
URL:https://golden-weebs.pl/event/blu-ray-cyberpunk-edgerunners/
CATEGORIES:PREMIERA
END:VEVENT
BEGIN:VEVENT
DTSTART;TZID=Europe/Warsaw:20251205T163000
DTEND;TZID=Europe/Warsaw:20251205T163000
DTSTAMP:20260420T120325
CREATED:20251122T122212Z
LAST-MODIFIED:20251122T122212Z
UID:4420-1764952200-1764952200@golden-weebs.pl
SUMMARY:NETFLIX: Tougen Anki\, odc. 21
DESCRIPTION:
URL:https://golden-weebs.pl/event/netflix-tougen-anki-odc-21/
END:VEVENT
BEGIN:VEVENT
DTSTART;TZID=Europe/Warsaw:20251205T185500
DTEND;TZID=Europe/Warsaw:20251205T185500
DTSTAMP:20260420T120325
CREATED:20251122T122247Z
LAST-MODIFIED:20251122T122247Z
UID:4422-1764960900-1764960900@golden-weebs.pl
SUMMARY:AMAZON PRIME VIDEO: Sanda\, odc. 10
DESCRIPTION:
URL:https://golden-weebs.pl/event/amazon-prime-video-sanda-odc-10/
END:VEVENT
BEGIN:VEVENT
DTSTART;TZID=Europe/Warsaw:20251206T120000
DTEND;TZID=Europe/Warsaw:20251206T120000
DTSTAMP:20260420T120325
CREATED:20251118T100041Z
LAST-MODIFIED:20251122T122431Z
UID:4406-1765022400-1765022400@golden-weebs.pl
SUMMARY:NETFLIX: One Piece\, odc. 1151
DESCRIPTION:
URL:https://golden-weebs.pl/event/netflix-one-piece-odc-1151/
END:VEVENT
BEGIN:VEVENT
DTSTART;TZID=Europe/Warsaw:20251206T180000
DTEND;TZID=Europe/Warsaw:20251206T180000
DTSTAMP:20260420T120325
CREATED:20251122T122505Z
LAST-MODIFIED:20251122T122505Z
UID:4426-1765044000-1765044000@golden-weebs.pl
SUMMARY:NETFLIX: Ranma1/2 S2\, odc. 10
DESCRIPTION:
URL:https://golden-weebs.pl/event/netflix-ranma1-2-s2-odc-10/
END:VEVENT
BEGIN:VEVENT
DTSTART;TZID=Europe/Warsaw:20251207T131000
DTEND;TZID=Europe/Warsaw:20251207T145000
DTSTAMP:20260420T120325
CREATED:20251122T122555Z
LAST-MODIFIED:20251122T122555Z
UID:4428-1765113000-1765119000@golden-weebs.pl
SUMMARY:CANAL+ SERIALE: Captain Tsubasa\, odc. 29-32
DESCRIPTION:
URL:https://golden-weebs.pl/event/canal-seriale-captain-tsubasa-odc-29-32/
END:VEVENT
BEGIN:VEVENT
DTSTART;TZID=Europe/Warsaw:20251209T183000
DTEND;TZID=Europe/Warsaw:20251209T183000
DTSTAMP:20260420T120325
CREATED:20251202T104929Z
LAST-MODIFIED:20251202T104929Z
UID:4451-1765305000-1765305000@golden-weebs.pl
SUMMARY:AMAZON PRIME VIDEO: Ninja kontra yakuza\, odc. 10
DESCRIPTION:
URL:https://golden-weebs.pl/event/amazon-prime-video-ninja-kontra-yakuza-odc-10/
END:VEVENT
BEGIN:VEVENT
DTSTART;TZID=Europe/Warsaw:20251210T090000
DTEND;TZID=Europe/Warsaw:20251210T090000
DTSTAMP:20260420T120325
CREATED:20251201T125606Z
LAST-MODIFIED:20251201T125606Z
UID:4446-1765357200-1765357200@golden-weebs.pl
SUMMARY:NETFLIX: Record of Ragnarok S3
DESCRIPTION:
URL:https://golden-weebs.pl/event/netflix-record-of-ragnarok-s3/
CATEGORIES:PREMIERA
END:VEVENT
BEGIN:VEVENT
DTSTART;TZID=Europe/Warsaw:20251210T090000
DTEND;TZID=Europe/Warsaw:20251210T090000
DTSTAMP:20260420T120325
CREATED:20251202T104957Z
LAST-MODIFIED:20251202T104957Z
UID:4453-1765357200-1765357200@golden-weebs.pl
SUMMARY:DISNEY+: Disney Twisted-Wonderland: Animacja\, odc. 7
DESCRIPTION:
URL:https://golden-weebs.pl/event/disney-disney-twisted-wonderland-animacja-odc-7/
END:VEVENT
BEGIN:VEVENT
DTSTART;TZID=Europe/Warsaw:20251210T160000
DTEND;TZID=Europe/Warsaw:20251210T160000
DTSTAMP:20260420T120325
CREATED:20251202T105032Z
LAST-MODIFIED:20251202T105032Z
UID:4455-1765382400-1765382400@golden-weebs.pl
SUMMARY:DISNEY+: Wandance\, odc. 10
DESCRIPTION:
URL:https://golden-weebs.pl/event/disney-wandance-odc-10/
END:VEVENT
BEGIN:VEVENT
DTSTART;TZID=Europe/Warsaw:20251211T165700
DTEND;TZID=Europe/Warsaw:20251211T165700
DTSTAMP:20260420T120325
CREATED:20251202T105117Z
LAST-MODIFIED:20251202T105117Z
UID:4457-1765472220-1765472220@golden-weebs.pl
SUMMARY:AMAZON PRIME VIDEO: Gwiazda jaśniejsza od Słońca\, odc. 11
DESCRIPTION:
URL:https://golden-weebs.pl/event/amazon-prime-video-gwiazda-jasniejsza-od-slonca-odc-11/
END:VEVENT
END:VCALENDAR